BEGIN:VCALENDAR
VERSION:2.0
PRODID:-//wp-events-plugin.com//7.2.3.1//EN
TZID:America/Regina
X-WR-TIMEZONE:America/Regina
BEGIN:VEVENT
UID:8161@peacelc.com
DTSTART;TZID=America/Winnipeg:20260411T090000
DTEND;TZID=America/Winnipeg:20260411T130000
DTSTAMP:20260327T171958Z
URL:https://peacelc.com/events/rrc-evangelism-workshop/
SUMMARY:RRC - Evangelism Workshop
DESCRIPTION:\n@ Lutheran Church of Redeemer\n
END:VEVENT
BEGIN:VTIMEZONE
TZID:America/Winnipeg
X-LIC-LOCATION:America/Winnipeg
BEGIN:DAYLIGHT
DTSTART:20260308T030000
TZOFFSETFROM:-0600
TZOFFSETTO:-0500
TZNAME:CDT
END:DAYLIGHT
END:VTIMEZONE
END:VCALENDAR