BEGIN:VCALENDAR
VERSION:2.0
PRODID:-//wp-events-plugin.com//7.2.3.1//EN
TZID:America/Regina
X-WR-TIMEZONE:America/Regina
BEGIN:VEVENT
UID:8027@peacelc.com
DTSTART;TZID=America/Winnipeg:20251030T190000
DTEND;TZID=America/Winnipeg:20251030T210000
DTSTAMP:20251005T194610Z
URL:https://peacelc.com/events/red-river-circuit-reformation-service/
SUMMARY:Red River Circuit - Reformation Service
DESCRIPTION:
END:VEVENT
BEGIN:VTIMEZONE
TZID:America/Winnipeg
X-LIC-LOCATION:America/Winnipeg
BEGIN:DAYLIGHT
DTSTART:20250309T030000
TZOFFSETFROM:-0600
TZOFFSETTO:-0500
TZNAME:CDT
END:DAYLIGHT
END:VTIMEZONE
END:VCALENDAR