BEGIN:VCALENDAR
VERSION:2.0
PRODID:-//wp-events-plugin.com//7.2.3.1//EN
TZID:America/Regina
X-WR-TIMEZONE:America/Regina
BEGIN:VEVENT
UID:7868@peacelc.com
DTSTART;TZID=America/Regina;VALUE=DATE:20250607
DTEND;TZID=America/Regina;VALUE=DATE:20250608
DTSTAMP:20250528T220831Z
URL:https://peacelc.com/events/private-function/
SUMMARY:Private Function
DESCRIPTION:
END:VEVENT
BEGIN:VTIMEZONE
TZID:America/Regina
X-LIC-LOCATION:America/Regina
BEGIN:STANDARD
DTSTART:20240607T000000
TZOFFSETFROM:-0600
TZOFFSETTO:-0600
TZNAME:CST
END:STANDARD
END:VTIMEZONE
END:VCALENDAR