BEGIN:VCALENDAR
VERSION:2.0
PRODID:-//wp-events-plugin.com//7.2.3.1//EN
TZID:America/Regina
X-WR-TIMEZONE:America/Regina
BEGIN:VEVENT
UID:7875@peacelc.com
DTSTART;TZID=America/Winnipeg:20250531T090000
DTEND;TZID=America/Winnipeg:20250531T140000
DTSTAMP:20250528T234040Z
URL:https://peacelc.com/events/peace-lutheran-church-garage-sale/
SUMMARY:Peace Lutheran Church Garage Sale
DESCRIPTION:Only a few tables left!\n\n1 eight-foot table\n\n7 six-foot tab
 les\n\nDrop items off Friday\, May 30 in bins to the fellowship hall.\n\nS
 et up 7:30am Saturday morning.\n\nReserve your table now—email office@pe
 acelc.com to e-transfer.\n\nTables are going FAST—like cookies after chu
 rch!
CATEGORIES:Community
END:VEVENT
BEGIN:VTIMEZONE
TZID:America/Winnipeg
X-LIC-LOCATION:America/Winnipeg
BEGIN:DAYLIGHT
DTSTART:20250309T030000
TZOFFSETFROM:-0600
TZOFFSETTO:-0500
TZNAME:CDT
END:DAYLIGHT
END:VTIMEZONE
END:VCALENDAR