BEGIN:VCALENDAR
VERSION:2.0
PRODID:-//wp-events-plugin.com//7.2.3.1//EN
TZID:America/Regina
X-WR-TIMEZONE:America/Regina
BEGIN:VEVENT
UID:8030@peacelc.com
DTSTART;TZID=America/Winnipeg:20251129T090000
DTEND;TZID=America/Winnipeg:20251129T130000
DTSTAMP:20251106T185818Z
URL:https://peacelc.com/events/peace-lutheran-church-cookie-walk-craft-sal
 e/
SUMMARY:Peace Lutheran Church - Cookie Walk &amp\; Craft Sale
DESCRIPTION:\nIt’s back — our Annual Cookie Walk! Fill your box with yo
 ur favorite homemade Christmas cookies from tables and tables of treats 
 — as many as you can fit! Craft Sale also on-site! Free hot beverage wit
 h your cookie box purchase! Come enjoy the sights\, smells\, and tastes of
  the season! Tag a friend &amp\; share this post to spread the Christmas s
 pirit!\n
ATTACH;FMTTYPE=image/jpeg:https://peacelc.com/wp-content/uploads/2025/11/V
 ENDOR-TABLES-ARE-AVAILABLE-FOR-25TABLE-1-2.png
END:VEVENT
BEGIN:VTIMEZONE
TZID:America/Winnipeg
X-LIC-LOCATION:America/Winnipeg
BEGIN:STANDARD
DTSTART:20251102T010000
TZOFFSETFROM:-0500
TZOFFSETTO:-0600
TZNAME:CST
END:STANDARD
END:VTIMEZONE
END:VCALENDAR