BEGIN:VCALENDAR
VERSION:2.0
PRODID:-//wp-events-plugin.com//7.2.3.1//EN
TZID:America/Regina
X-WR-TIMEZONE:America/Regina
BEGIN:VEVENT
UID:7999@peacelc.com
DTSTART;TZID=America/Winnipeg;VALUE=DATE:20251006
DTEND;TZID=America/Winnipeg;VALUE=DATE:20251009
DTSTAMP:20250929T164656Z
URL:https://peacelc.com/events/pastor-glenn-out-of-office/
SUMMARY:Pastor Glenn out of the Office
DESCRIPTION:\nPastor Glenn will be out of office today to attend the Manito
 ba NW Ontario Pastors &amp\; Deacons Conference\n\n\n\n\n
END:VEVENT
BEGIN:VTIMEZONE
TZID:America/Winnipeg
X-LIC-LOCATION:America/Winnipeg
BEGIN:DAYLIGHT
DTSTART:20250309T030000
TZOFFSETFROM:-0600
TZOFFSETTO:-0500
TZNAME:CDT
END:DAYLIGHT
END:VTIMEZONE
END:VCALENDAR