BEGIN:VCALENDAR
VERSION:2.0
PRODID:-//wp-events-plugin.com//7.2.3.1//EN
TZID:America/Regina
X-WR-TIMEZONE:America/Regina
BEGIN:VEVENT
UID:7869@peacelc.com
DTSTART;TZID=America/Regina:20250710T193000
DTEND;TZID=America/Regina:20250710T210000
DTSTAMP:20250528T220946Z
URL:https://peacelc.com/events/parish-planning-council-meeting/
SUMMARY:Parish Planning Council Meeting
DESCRIPTION:
CATEGORIES:Meetings
END:VEVENT
BEGIN:VTIMEZONE
TZID:America/Regina
X-LIC-LOCATION:America/Regina
BEGIN:STANDARD
DTSTART:20240710T193000
TZOFFSETFROM:-0600
TZOFFSETTO:-0600
TZNAME:CST
END:STANDARD
END:VTIMEZONE
END:VCALENDAR