BEGIN:VCALENDAR
VERSION:2.0
PRODID:-//wp-events-plugin.com//7.2.3.1//EN
TZID:America/Regina
X-WR-TIMEZONE:America/Regina
BEGIN:VEVENT
UID:7967@peacelc.com
DTSTART;TZID=America/Winnipeg;VALUE=DATE:20250703
DTEND;TZID=America/Winnipeg;VALUE=DATE:20250710
DTSTAMP:20250627T180459Z
URL:https://peacelc.com/events/national-youth-gathering/
SUMMARY:National Youth Gathering
DESCRIPTION:\nPastor Glenn is accompanying our Youth to the National Youth 
 Gathering in Waterloo\, and our Office Administrator\, Shaunna\, is also a
 way.\n\n\n\n\n
END:VEVENT
BEGIN:VTIMEZONE
TZID:America/Winnipeg
X-LIC-LOCATION:America/Winnipeg
BEGIN:DAYLIGHT
DTSTART:20250309T030000
TZOFFSETFROM:-0600
TZOFFSETTO:-0500
TZNAME:CDT
END:DAYLIGHT
END:VTIMEZONE
END:VCALENDAR