BEGIN:VCALENDAR
VERSION:2.0
PRODID:-//wp-events-plugin.com//7.2.3.1//EN
TZID:America/Regina
X-WR-TIMEZONE:America/Regina
BEGIN:VEVENT
UID:7993@peacelc.com
DTSTART;TZID=America/Winnipeg:20250924T183000
DTEND;TZID=America/Winnipeg:20250924T193000
DTSTAMP:20250919T163720Z
URL:https://peacelc.com/events/mid-week-family-worship-service-with-holy-c
 ommunion/
SUMMARY:Mid-Week Family Worship Service with Holy Communion
DESCRIPTION:
END:VEVENT
BEGIN:VTIMEZONE
TZID:America/Winnipeg
X-LIC-LOCATION:America/Winnipeg
BEGIN:DAYLIGHT
DTSTART:20250309T030000
TZOFFSETFROM:-0600
TZOFFSETTO:-0500
TZNAME:CDT
END:DAYLIGHT
END:VTIMEZONE
END:VCALENDAR