BEGIN:VCALENDAR
VERSION:2.0
PRODID:-//wp-events-plugin.com//7.2.3.1//EN
TZID:America/Regina
X-WR-TIMEZONE:America/Regina
BEGIN:VEVENT
UID:7853@peacelc.com
DTSTART;TZID=America/Regina:20250528T183000
DTEND;TZID=America/Regina:20250528T193000
DTSTAMP:20250528T220529Z
URL:https://peacelc.com/events/mid-week-family-worship-service-2025-05-28/
SUMMARY:Mid-Week Family Worship Service
DESCRIPTION:
CATEGORIES:Worship Service
END:VEVENT
BEGIN:VTIMEZONE
TZID:America/Regina
X-LIC-LOCATION:America/Regina
BEGIN:STANDARD
DTSTART:20240528T183000
TZOFFSETFROM:-0600
TZOFFSETTO:-0600
TZNAME:CST
END:STANDARD
END:VTIMEZONE
END:VCALENDAR