BEGIN:VCALENDAR
VERSION:2.0
PRODID:-//wp-events-plugin.com//7.2.3.1//EN
TZID:America/Regina
X-WR-TIMEZONE:America/Regina
BEGIN:VEVENT
UID:7964@peacelc.com
DTSTART;TZID=America/Winnipeg:20250625T120000
DTEND;TZID=America/Winnipeg:20250625T140000
DTSTAMP:20250625T174849Z
URL:https://peacelc.com/events/making-sandwiches-for-bear-clan-patrol/
SUMMARY:Making Sandwiches for Bear Clan Patrol
DESCRIPTION:
CATEGORIES:Community
LOCATION:Peace Lutheran Church\, 350 Gilmore Ave\, Winnipeg\, MB\, R2G2B7\,
  Canada
X-APPLE-STRUCTURED-LOCATION;VALUE=URI;X-ADDRESS=350 Gilmore Ave\, Winnipeg\
 , MB\, R2G2B7\, Canada;X-APPLE-RADIUS=100;X-TITLE=Peace Lutheran Church:ge
 o:0,0
END:VEVENT
BEGIN:VTIMEZONE
TZID:America/Winnipeg
X-LIC-LOCATION:America/Winnipeg
BEGIN:DAYLIGHT
DTSTART:20250309T030000
TZOFFSETFROM:-0600
TZOFFSETTO:-0500
TZNAME:CDT
END:DAYLIGHT
END:VTIMEZONE
END:VCALENDAR