BEGIN:VCALENDAR
VERSION:2.0
PRODID:-//wp-events-plugin.com//7.2.3.1//EN
TZID:America/Regina
X-WR-TIMEZONE:America/Regina
BEGIN:VEVENT
UID:8028@peacelc.com
DTSTART;TZID=America/Winnipeg:20251018T090000
DTEND;TZID=America/Winnipeg:20251018T120000
DTSTAMP:20251005T195023Z
URL:https://peacelc.com/events/lwmlc-fall-renewal-faith-like-a-child/
SUMMARY:LWMLC Fall Renewal - Faith Like a Child @ St James Lutheran Church
DESCRIPTION:\nAt Saint James Lutheran Church (871 Cavalier Drive)\n\n\n\n\n
LOCATION:St James Lutheran Church\, 871 Cavalier Drive\, Winnipeg\, Canada
X-APPLE-STRUCTURED-LOCATION;VALUE=URI;X-ADDRESS=871 Cavalier Drive\, Winnip
 eg\, Canada;X-APPLE-RADIUS=100;X-TITLE=St James Lutheran Church:geo:0,0
END:VEVENT
BEGIN:VTIMEZONE
TZID:America/Winnipeg
X-LIC-LOCATION:America/Winnipeg
BEGIN:DAYLIGHT
DTSTART:20250309T030000
TZOFFSETFROM:-0600
TZOFFSETTO:-0500
TZNAME:CDT
END:DAYLIGHT
END:VTIMEZONE
END:VCALENDAR