BEGIN:VCALENDAR
VERSION:2.0
PRODID:-//wp-events-plugin.com//7.2.3.1//EN
TZID:America/Regina
X-WR-TIMEZONE:America/Regina
BEGIN:VEVENT
UID:7987@peacelc.com
DTSTART;TZID=America/Winnipeg:20250921T093000
DTEND;TZID=America/Winnipeg:20250921T103000
DTSTAMP:20250904T163054Z
URL:https://peacelc.com/events/jam-kickoff/
SUMMARY:JAM Kickoff
DESCRIPTION:\nJ12\, JAM\, and JAM Toddlers meet for the first time\, follow
 ed by the annual Church BBQ at noon\n
END:VEVENT
BEGIN:VTIMEZONE
TZID:America/Winnipeg
X-LIC-LOCATION:America/Winnipeg
BEGIN:DAYLIGHT
DTSTART:20250309T030000
TZOFFSETFROM:-0600
TZOFFSETTO:-0500
TZNAME:CDT
END:DAYLIGHT
END:VTIMEZONE
END:VCALENDAR