BEGIN:VCALENDAR
VERSION:2.0
PRODID:-//wp-events-plugin.com//7.2.3.1//EN
TZID:America/Regina
X-WR-TIMEZONE:America/Regina
BEGIN:VEVENT
UID:3@peacelc.com
DTSTART;TZID=America/Winnipeg:20231231T103000
DTEND;TZID=America/Winnipeg:20250901T114500
DTSTAMP:20250612T203534Z
URL:https://peacelc.com/event-recurring/family-worship-service/
SUMMARY:Family Worship Service
DESCRIPTION:Please join us for Family Worship Service on Sundays at 10:30a
 m. Holy Communion will be offered on the 1st and 3rd Sunday &amp\; followi
 ng Wednesday of the month. 
LOCATION:Peace Lutheran Church\, 350 Gilmore Ave\, Winnipeg\, MB\, R2G2B7\,
  Canada
X-APPLE-STRUCTURED-LOCATION;VALUE=URI;X-ADDRESS=350 Gilmore Ave\, Winnipeg\
 , MB\, R2G2B7\, Canada;X-APPLE-RADIUS=100;X-TITLE=Peace Lutheran Church:ge
 o:0,0
END:VEVENT
BEGIN:VTIMEZONE
TZID:America/Winnipeg
X-LIC-LOCATION:America/Winnipeg
BEGIN:STANDARD
DTSTART:20231105T010000
TZOFFSETFROM:-0500
TZOFFSETTO:-0600
TZNAME:CST
END:STANDARD
BEGIN:DAYLIGHT
DTSTART:20240310T030000
TZOFFSETFROM:-0600
TZOFFSETTO:-0500
TZNAME:CDT
END:DAYLIGHT
BEGIN:STANDARD
DTSTART:20241103T010000
TZOFFSETFROM:-0500
TZOFFSETTO:-0600
TZNAME:CST
END:STANDARD
BEGIN:DAYLIGHT
DTSTART:20250309T030000
TZOFFSETFROM:-0600
TZOFFSETTO:-0500
TZNAME:CDT
END:DAYLIGHT
END:VTIMEZONE
END:VCALENDAR