BEGIN:VCALENDAR
VERSION:2.0
PRODID:-//wp-events-plugin.com//7.2.3.1//EN
TZID:America/Regina
X-WR-TIMEZONE:America/Regina
BEGIN:VEVENT
UID:8012@peacelc.com
DTSTART;TZID=America/Winnipeg:20251005T103000
DTEND;TZID=America/Winnipeg:20251005T120000
DTSTAMP:20251005T193903Z
URL:https://peacelc.com/events/family-worship-service-with-holy-communion/
SUMMARY:Family Worship Service with Holy Communion
DESCRIPTION:
END:VEVENT
BEGIN:VTIMEZONE
TZID:America/Winnipeg
X-LIC-LOCATION:America/Winnipeg
BEGIN:DAYLIGHT
DTSTART:20250309T030000
TZOFFSETFROM:-0600
TZOFFSETTO:-0500
TZNAME:CDT
END:DAYLIGHT
END:VTIMEZONE
END:VCALENDAR