BEGIN:VCALENDAR
VERSION:2.0
PRODID:-//wp-events-plugin.com//7.2.3.1//EN
TZID:America/Regina
X-WR-TIMEZONE:America/Regina
BEGIN:VEVENT
UID:7980@peacelc.com
DTSTART;TZID=America/Winnipeg:20250914T133000
DTEND;TZID=America/Winnipeg:20250914T153000
DTSTAMP:20250904T162045Z
URL:https://peacelc.com/events/college-career-event-activate/
SUMMARY:College &amp\; Career Event: Activate
DESCRIPTION:
END:VEVENT
BEGIN:VTIMEZONE
TZID:America/Winnipeg
X-LIC-LOCATION:America/Winnipeg
BEGIN:DAYLIGHT
DTSTART:20250309T030000
TZOFFSETFROM:-0600
TZOFFSETTO:-0500
TZNAME:CDT
END:DAYLIGHT
END:VTIMEZONE
END:VCALENDAR