BEGIN:VCALENDAR
VERSION:2.0
PRODID:-//wp-events-plugin.com//7.2.3.1//EN
TZID:America/Regina
X-WR-TIMEZONE:America/Regina
BEGIN:VEVENT
UID:2036@peacelc.com
DTSTART;TZID=America/Regina:20251130T093000
DTEND;TZID=America/Regina:20251130T103000
DTSTAMP:20251126T195407Z
URL:https://peacelc.com/events/christian-education-for-all-ages-2025-11-30
 /
SUMMARY:Christian Education for All Ages
DESCRIPTION:\n 	Sunday School for kids\n 	J12 Grade 5 - 12\n 	Adult Bible S
 tudy\n
LOCATION:Peace Lutheran Church\, 350 Gilmore Ave\, Winnipeg\, MB\, R2G2B7\,
  Canada
X-APPLE-STRUCTURED-LOCATION;VALUE=URI;X-ADDRESS=350 Gilmore Ave\, Winnipeg\
 , MB\, R2G2B7\, Canada;X-APPLE-RADIUS=100;X-TITLE=Peace Lutheran Church:ge
 o:0,0
END:VEVENT
BEGIN:VTIMEZONE
TZID:America/Regina
X-LIC-LOCATION:America/Regina
BEGIN:STANDARD
DTSTART:20241130T093000
TZOFFSETFROM:-0600
TZOFFSETTO:-0600
TZNAME:CST
END:STANDARD
END:VTIMEZONE
END:VCALENDAR