BEGIN:VCALENDAR
VERSION:2.0
PRODID:-//wp-events-plugin.com//7.2.3.1//EN
TZID:America/Regina
X-WR-TIMEZONE:America/Regina
BEGIN:VEVENT
UID:7983@peacelc.com
DTSTART;TZID=America/Winnipeg:20250921T120000
DTEND;TZID=America/Winnipeg:20250921T150000
DTSTAMP:20250904T162356Z
URL:https://peacelc.com/events/annual-church-bbq/
SUMMARY:Annual Church BBQ
DESCRIPTION:
END:VEVENT
BEGIN:VTIMEZONE
TZID:America/Winnipeg
X-LIC-LOCATION:America/Winnipeg
BEGIN:DAYLIGHT
DTSTART:20250309T030000
TZOFFSETFROM:-0600
TZOFFSETTO:-0500
TZNAME:CDT
END:DAYLIGHT
END:VTIMEZONE
END:VCALENDAR