BEGIN:VCALENDAR
VERSION:2.0
PRODID:-//wp-events-plugin.com//7.2.3.1//EN
TZID:America/Regina
X-WR-TIMEZONE:America/Regina
BEGIN:VEVENT
UID:8046@peacelc.com
DTSTART;TZID=America/Winnipeg:20251217T183000
DTEND;TZID=America/Winnipeg:20251217T193000
DTSTAMP:20251126T200156Z
URL:https://peacelc.com/events/advent-mid-week-service-3/
SUMMARY:Advent Mid-Week Service
DESCRIPTION:\nAs We Wait\n
ATTACH;FMTTYPE=image/jpeg:https://peacelc.com/wp-content/uploads/2025/11/A
 s-We-Wait-Advent-2025.png
END:VEVENT
BEGIN:VTIMEZONE
TZID:America/Winnipeg
X-LIC-LOCATION:America/Winnipeg
BEGIN:STANDARD
DTSTART:20251102T010000
TZOFFSETFROM:-0500
TZOFFSETTO:-0600
TZNAME:CST
END:STANDARD
END:VTIMEZONE
END:VCALENDAR